BEGIN:VCALENDAR
VERSION:2.0
PRODID:-//eventon.com NONSGML v1.0//EN
BEGIN:VEVENT
UID:69e5ec82c7624
DTSTAMP:20260420T090610
DTSTART:20220329T203000Z
DTEND:20220329T220000Z
TZID:Europe/Rome
LOCATION:Teatro Ghione Via delle Fornaci 37
SUMMARY:GRAN GALA' DI PRIMAVERA<br>Valzer e Danze viennesi per Orchestra sinfonica
DESCRIPTION: Marcello Morra flauto Orchestra Internazionale di Roma Antonio Pantaneschi direttore Musiche di Strauss\,  Caikovskij\,  Offenbach\,  Mozart\nhttps://fhvirtualmusic.fabricaharmonica.it/events/gran-gala-di-primaveravalzer-e-danze-viennesi-per-orchestra-sinfonica/
URL:https://fhvirtualmusic.fabricaharmonica.it/events/gran-gala-di-primaveravalzer-e-danze-viennesi-per-orchestra-sinfonica/
END:VEVENT
END:VCALENDAR